Package: CSSQ Version: 1.20.0 Maintainer: Fan Lab at Georgia Institute of Technology MaintainerEmail: yuhong.fan at biology.gatech.edu git_url: https://git.bioconductor.org/packages/CSSQ git_branch: RELEASE_3_21 git_last_commit: 1eeb773 git_last_commit_date: 2025-04-15 11:53:04 -0400 (Tue, 15 Apr 2025)