Package: CSOA Version: 1.0.0 Command: /home/biocbuild/bbs-3.22-bioc/R/bin/R CMD INSTALL CSOA StartedAt: 2025-11-02 15:24:40 -0500 (Sun, 02 Nov 2025) EndedAt: 2025-11-02 15:25:26 -0500 (Sun, 02 Nov 2025) EllapsedTime: 46.2 seconds RetCode: 0 Status: OK