Package: CSOA Version: 1.0.0 Command: /home/biocbuild/bbs-3.22-bioc/R/bin/R CMD check --install=check:CSOA.install-out.txt --library=/home/biocbuild/bbs-3.22-bioc/R/site-library --timings CSOA_1.0.0.tar.gz StartedAt: 2025-11-06 22:30:20 -0500 (Thu, 06 Nov 2025) EndedAt: 2025-11-06 22:38:37 -0500 (Thu, 06 Nov 2025) EllapsedTime: 497.4 seconds RetCode: 0 Status: OK CheckDir: CSOA.Rcheck Warnings: 0