Package: CSOA Version: 1.0.0 Command: /Library/Frameworks/R.framework/Resources/bin/R CMD INSTALL CSOA StartedAt: 2025-11-20 16:15:59 -0500 (Thu, 20 Nov 2025) EndedAt: 2025-11-20 16:17:21 -0500 (Thu, 20 Nov 2025) EllapsedTime: 81.9 seconds RetCode: 0 Status: OK