Package: CSOA Version: 1.0.0 Command: rm -rf CSOA.buildbin-libdir && mkdir CSOA.buildbin-libdir && /Users/biocbuild/BBS/utils/build-universal.sh CSOA_1.0.0.tar.gz /Library/Frameworks/R.framework/Resources/bin/R CSOA.buildbin-libdir StartedAt: 2025-11-21 14:31:26 -0500 (Fri, 21 Nov 2025) EndedAt: 2025-11-21 14:32:53 -0500 (Fri, 21 Nov 2025) EllapsedTime: 86.1 seconds RetCode: 0 Status: OK PackageFile: CSOA_1.0.0.tgz PackageFileSize: 2.861 MiB