Package: CSOA Version: 1.0.0 Command: /Library/Frameworks/R.framework/Resources/bin/R CMD INSTALL CSOA StartedAt: 2025-11-02 15:27:04 -0500 (Sun, 02 Nov 2025) EndedAt: 2025-11-02 15:27:55 -0500 (Sun, 02 Nov 2025) EllapsedTime: 51.5 seconds RetCode: 0 Status: OK