Package: CSOA Version: 1.0.0 Command: rm -rf CSOA.buildbin-libdir && mkdir CSOA.buildbin-libdir && /Users/biocbuild/BBS/utils/build-universal.sh CSOA_1.0.0.tar.gz /Library/Frameworks/R.framework/Resources/bin/R CSOA.buildbin-libdir StartedAt: 2025-11-01 01:29:27 -0400 (Sat, 01 Nov 2025) EndedAt: 2025-11-01 01:30:21 -0400 (Sat, 01 Nov 2025) EllapsedTime: 54.4 seconds RetCode: 0 Status: OK PackageFile: CSOA_1.0.0.tgz PackageFileSize: 2.86 MiB