Package: CSOA Version: 1.0.0 Command: /Library/Frameworks/R.framework/Resources/bin/R CMD INSTALL CSOA StartedAt: 2025-11-02 15:11:13 -0500 (Sun, 02 Nov 2025) EndedAt: 2025-11-02 15:11:28 -0500 (Sun, 02 Nov 2025) EllapsedTime: 15.6 seconds RetCode: 0 Status: OK