Package: CSOA Version: 1.0.0 Command: /Library/Frameworks/R.framework/Resources/bin/R CMD build --keep-empty-dirs --no-resave-data CSOA StartedAt: 2025-11-03 16:04:38 -0500 (Mon, 03 Nov 2025) EndedAt: 2025-11-03 16:05:43 -0500 (Mon, 03 Nov 2025) EllapsedTime: 64.7 seconds RetCode: 0 Status: OK PackageFile: CSOA_1.0.0.tar.gz PackageFileSize: 2.782 MiB