Package: CSAR Version: 1.58.0 Command: /home/biocbuild/R/R/bin/R CMD INSTALL CSAR StartedAt: 2025-01-30 20:16:35 -0000 (Thu, 30 Jan 2025) EndedAt: 2025-01-30 20:16:47 -0000 (Thu, 30 Jan 2025) EllapsedTime: 11.7 seconds RetCode: 0 Status: OK