Package: CRImage Version: 1.54.0 Command: /home/biocbuild/R/R/bin/R CMD INSTALL CRImage StartedAt: 2025-01-30 20:54:25 -0000 (Thu, 30 Jan 2025) EndedAt: 2025-01-30 20:54:38 -0000 (Thu, 30 Jan 2025) EllapsedTime: 13.0 seconds RetCode: 0 Status: OK