Package: CPSM Version: 1.2.0 Command: /home/biocbuild/R/R/bin/R CMD INSTALL CPSM StartedAt: 2025-11-13 21:41:40 -0000 (Thu, 13 Nov 2025) EndedAt: 2025-11-13 21:42:25 -0000 (Thu, 13 Nov 2025) EllapsedTime: 44.6 seconds RetCode: 0 Status: OK