Package: CPSM Version: 1.2.0 Maintainer: Harpreet Kaur MaintainerEmail: hks04180 at gmail.com git_url: https://git.bioconductor.org/packages/CPSM git_branch: RELEASE_3_22 git_last_commit: 5c19f2f git_last_commit_date: 2025-10-29 11:34:56 -0500 (Wed, 29 Oct 2025)