Package: COSNet Version: 1.40.0 Command: /home/biocbuild/R/R/bin/R CMD INSTALL COSNet StartedAt: 2025-01-30 20:08:36 -0000 (Thu, 30 Jan 2025) EndedAt: 2025-01-30 20:09:01 -0000 (Thu, 30 Jan 2025) EllapsedTime: 24.9 seconds RetCode: 0 Status: OK