Package: COSNet Version: 1.42.0 Command: /home/biocbuild/bbs-3.21-bioc/R/bin/R CMD build --keep-empty-dirs --no-resave-data COSNet StartedAt: 2025-10-08 16:56:38 -0400 (Wed, 08 Oct 2025) EndedAt: 2025-10-08 17:01:05 -0400 (Wed, 08 Oct 2025) EllapsedTime: 267.3 seconds RetCode: 0 Status: OK PackageFile: COSNet_1.42.0.tar.gz PackageFileSize: 520 KiB