Package: CODEX Version: 1.38.0 Command: /home/biocbuild/R/R/bin/R CMD build --keep-empty-dirs --no-resave-data CODEX StartedAt: 2025-01-30 22:44:42 -0000 (Thu, 30 Jan 2025) EndedAt: 2025-01-30 22:47:00 -0000 (Thu, 30 Jan 2025) EllapsedTime: 138.1 seconds RetCode: 0 Status: OK PackageFile: CODEX_1.38.0.tar.gz PackageFileSize: 909 KiB