Package: CODEX Version: 1.40.0 Command: chmod a+r CODEX -R && E:\biocbuild\bbs-3.21-bioc\R\bin\R.exe CMD build --keep-empty-dirs --no-resave-data CODEX StartedAt: 2025-08-14 18:10:17 -0400 (Thu, 14 Aug 2025) EndedAt: 2025-08-14 18:13:22 -0400 (Thu, 14 Aug 2025) EllapsedTime: 184.8 seconds RetCode: 0 Status: OK PackageFile: CODEX_1.40.0.tar.gz PackageFileSize: 824 KiB