Package: CODEX Version: 1.40.0 Command: /Library/Frameworks/R.framework/Resources/bin/R CMD INSTALL CODEX StartedAt: 2025-04-21 15:18:58 -0400 (Mon, 21 Apr 2025) EndedAt: 2025-04-21 15:19:11 -0400 (Mon, 21 Apr 2025) EllapsedTime: 13.0 seconds RetCode: 0 Status: OK