Package: CODEX Version: 1.40.0 Command: /Library/Frameworks/R.framework/Resources/bin/R CMD check --install=check:CODEX.install-out.txt --library=/Library/Frameworks/R.framework/Resources/library --no-vignettes --timings CODEX_1.40.0.tar.gz StartedAt: 2025-04-21 18:43:19 -0400 (Mon, 21 Apr 2025) EndedAt: 2025-04-21 18:45:00 -0400 (Mon, 21 Apr 2025) EllapsedTime: 101.1 seconds RetCode: 0 Status: OK CheckDir: CODEX.Rcheck Warnings: 0