Package: CODEX Version: 1.40.0 Command: rm -rf CODEX.buildbin-libdir && mkdir CODEX.buildbin-libdir && /Users/biocbuild/BBS/utils/build-universal.sh CODEX_1.40.0.tar.gz /Library/Frameworks/R.framework/Resources/bin/R CODEX.buildbin-libdir StartedAt: 2025-04-21 22:30:31 -0400 (Mon, 21 Apr 2025) EndedAt: 2025-04-21 22:30:46 -0400 (Mon, 21 Apr 2025) EllapsedTime: 14.3 seconds RetCode: 0 Status: OK PackageFile: CODEX_1.40.0.tgz PackageFileSize: 1.324 MiB