Package: COCOA Version: 2.22.0 Command: /Library/Frameworks/R.framework/Resources/bin/R CMD check --install=check:COCOA.install-out.txt --library=/Library/Frameworks/R.framework/Resources/library --no-vignettes --timings COCOA_2.22.0.tar.gz StartedAt: 2025-05-02 01:28:19 -0400 (Fri, 02 May 2025) EndedAt: 2025-05-02 01:39:19 -0400 (Fri, 02 May 2025) EllapsedTime: 659.7 seconds RetCode: 0 Status: OK CheckDir: COCOA.Rcheck Warnings: 0