Package: COCOA Version: 2.22.0 Command: /Library/Frameworks/R.framework/Resources/bin/R CMD build --keep-empty-dirs --no-resave-data COCOA StartedAt: 2025-05-01 17:56:04 -0400 (Thu, 01 May 2025) EndedAt: 2025-05-01 18:00:15 -0400 (Thu, 01 May 2025) EllapsedTime: 250.9 seconds RetCode: 0 Status: OK PackageFile: COCOA_2.22.0.tar.gz PackageFileSize: 3.457 MiB