Package: COCOA Version: 2.22.0 Command: rm -rf COCOA.buildbin-libdir && mkdir COCOA.buildbin-libdir && /Users/biocbuild/BBS/utils/build-universal.sh COCOA_2.22.0.tar.gz /Library/Frameworks/R.framework/Resources/bin/R COCOA.buildbin-libdir StartedAt: 2025-05-02 12:41:35 -0400 (Fri, 02 May 2025) EndedAt: 2025-05-02 12:43:08 -0400 (Fri, 02 May 2025) EllapsedTime: 92.6 seconds RetCode: 0 Status: OK PackageFile: COCOA_2.22.0.tgz PackageFileSize: 3.554 MiB