Package: CNVrd2 Version: 1.46.0 Command: /Library/Frameworks/R.framework/Resources/bin/R CMD INSTALL CNVrd2 StartedAt: 2025-05-01 16:15:53 -0400 (Thu, 01 May 2025) EndedAt: 2025-05-01 16:17:19 -0400 (Thu, 01 May 2025) EllapsedTime: 86.1 seconds RetCode: 0 Status: OK