Package: CNVrd2 Version: 1.46.0 Command: /Library/Frameworks/R.framework/Resources/bin/R CMD check --install=check:CNVrd2.install-out.txt --library=/Library/Frameworks/R.framework/Resources/library --no-vignettes --timings CNVrd2_1.46.0.tar.gz StartedAt: 2025-05-06 01:26:02 -0400 (Tue, 06 May 2025) EndedAt: 2025-05-06 01:31:43 -0400 (Tue, 06 May 2025) EllapsedTime: 340.8 seconds RetCode: 0 Status: OK CheckDir: CNVrd2.Rcheck Warnings: 0