Package: CNVrd2 Version: 1.46.0 Command: /Library/Frameworks/R.framework/Resources/bin/R CMD check --install=check:CNVrd2.install-out.txt --library=/Library/Frameworks/R.framework/Resources/library --no-vignettes --timings CNVrd2_1.46.0.tar.gz StartedAt: 2025-04-21 19:51:06 -0400 (Mon, 21 Apr 2025) EndedAt: 2025-04-21 19:54:03 -0400 (Mon, 21 Apr 2025) EllapsedTime: 176.9 seconds RetCode: 0 Status: OK CheckDir: CNVrd2.Rcheck Warnings: 0