Package: CNVrd2 Version: 1.46.0 Command: /Library/Frameworks/R.framework/Resources/bin/R CMD build --keep-empty-dirs --no-resave-data CNVrd2 StartedAt: 2025-04-21 15:57:29 -0400 (Mon, 21 Apr 2025) EndedAt: 2025-04-21 15:58:06 -0400 (Mon, 21 Apr 2025) EllapsedTime: 37.4 seconds RetCode: 0 Status: OK PackageFile: CNVrd2_1.46.0.tar.gz PackageFileSize: 2.825 MiB