Package: CNVRanger Version: 1.24.2 Command: /home/biocbuild/bbs-3.21-bioc/R/bin/R CMD build --keep-empty-dirs --no-resave-data CNVRanger StartedAt: 2025-10-08 16:50:31 -0400 (Wed, 08 Oct 2025) EndedAt: 2025-10-08 16:53:41 -0400 (Wed, 08 Oct 2025) EllapsedTime: 190.2 seconds RetCode: 0 Status: OK PackageFile: CNVRanger_1.24.2.tar.gz PackageFileSize: 1.954 MiB