Package: CNVRanger Version: 1.24.0 Maintainer: Ludwig Geistlinger MaintainerEmail: ludwig.geistlinger at gmail.com git_url: https://git.bioconductor.org/packages/CNVRanger git_branch: RELEASE_3_21 git_last_commit: d133416 git_last_commit_date: 2025-04-15 11:41:03 -0400 (Tue, 15 Apr 2025)