Package: CNVPanelizer Version: 1.40.0 Command: /home/biocbuild/bbs-3.21-bioc/R/bin/R CMD build --keep-empty-dirs --no-resave-data CNVPanelizer StartedAt: 2025-10-12 16:50:10 -0400 (Sun, 12 Oct 2025) EndedAt: 2025-10-12 16:51:28 -0400 (Sun, 12 Oct 2025) EllapsedTime: 78.1 seconds RetCode: 0 Status: OK PackageFile: CNVPanelizer_1.40.0.tar.gz PackageFileSize: 363.4 KiB