Package: CNVPanelizer Version: 1.40.0 Command: /Library/Frameworks/R.framework/Resources/bin/R CMD build --keep-empty-dirs --no-resave-data CNVPanelizer StartedAt: 2025-04-21 16:21:13 -0400 (Mon, 21 Apr 2025) EndedAt: 2025-04-21 16:22:42 -0400 (Mon, 21 Apr 2025) EllapsedTime: 89.0 seconds RetCode: 0 Status: OK PackageFile: CNVPanelizer_1.40.0.tar.gz PackageFileSize: 363.1 KiB