Package: CNVPanelizer Version: 1.38.0 Command: /Library/Frameworks/R.framework/Resources/bin/R CMD build --keep-empty-dirs --no-resave-data CNVPanelizer StartedAt: 2024-11-08 16:33:21 -0500 (Fri, 08 Nov 2024) EndedAt: 2024-11-08 16:33:48 -0500 (Fri, 08 Nov 2024) EllapsedTime: 27.3 seconds RetCode: 0 Status: OK PackageFile: CNVPanelizer_1.38.0.tar.gz PackageFileSize: 363.1 KiB