Package: CNVPanelizer Version: 1.40.0 Command: rm -rf CNVPanelizer.buildbin-libdir && mkdir CNVPanelizer.buildbin-libdir && /Users/biocbuild/BBS/utils/build-universal.sh CNVPanelizer_1.40.0.tar.gz /Library/Frameworks/R.framework/Resources/bin/R CNVPanelizer.buildbin-libdir StartedAt: 2025-04-21 22:30:29 -0400 (Mon, 21 Apr 2025) EndedAt: 2025-04-21 22:30:39 -0400 (Mon, 21 Apr 2025) EllapsedTime: 9.2 seconds RetCode: 0 Status: OK PackageFile: CNVPanelizer_1.40.0.tgz PackageFileSize: 471.9 KiB