Package: CNVPanelizer Version: 1.40.0 Command: rm -rf CNVPanelizer.buildbin-libdir && mkdir CNVPanelizer.buildbin-libdir && /Users/biocbuild/BBS/utils/build-universal.sh CNVPanelizer_1.40.0.tar.gz /Library/Frameworks/R.framework/Resources/bin/R CNVPanelizer.buildbin-libdir StartedAt: 2025-05-21 14:46:16 -0400 (Wed, 21 May 2025) EndedAt: 2025-05-21 14:46:42 -0400 (Wed, 21 May 2025) EllapsedTime: 25.9 seconds RetCode: 0 Status: OK PackageFile: CNVPanelizer_1.40.0.tgz PackageFileSize: 470.2 KiB