Package: CNORode Version: 1.50.0 Command: /Library/Frameworks/R.framework/Resources/bin/R CMD check --install=check:CNORode.install-out.txt --library=/Library/Frameworks/R.framework/Resources/library --no-vignettes --timings CNORode_1.50.0.tar.gz StartedAt: 2025-04-21 19:50:21 -0400 (Mon, 21 Apr 2025) EndedAt: 2025-04-21 19:51:40 -0400 (Mon, 21 Apr 2025) EllapsedTime: 78.2 seconds RetCode: 0 Status: WARNINGS CheckDir: CNORode.Rcheck Warnings: 2