Package: CNORfuzzy Version: 1.50.0 Maintainer: T. Cokelaer MaintainerEmail: cokelaer at ebi.ac.uk git_url: https://git.bioconductor.org/packages/CNORfuzzy git_branch: RELEASE_3_21 git_last_commit: 37ae261 git_last_commit_date: 2025-04-15 10:15:08 -0400 (Tue, 15 Apr 2025)