Package: CNORfeeder Version: 1.48.0 Command: /Library/Frameworks/R.framework/Resources/bin/R CMD build --keep-empty-dirs --no-resave-data CNORfeeder StartedAt: 2025-04-21 15:56:50 -0400 (Mon, 21 Apr 2025) EndedAt: 2025-04-21 15:56:59 -0400 (Mon, 21 Apr 2025) EllapsedTime: 9.1 seconds RetCode: 0 Status: OK PackageFile: CNORfeeder_1.48.0.tar.gz PackageFileSize: 3.435 MiB