Package: CNORfeeder Version: 1.48.0 Command: rm -rf CNORfeeder.buildbin-libdir && mkdir CNORfeeder.buildbin-libdir && /Users/biocbuild/BBS/utils/build-universal.sh CNORfeeder_1.48.0.tar.gz /Library/Frameworks/R.framework/Resources/bin/R CNORfeeder.buildbin-libdir StartedAt: 2025-04-21 22:30:24 -0400 (Mon, 21 Apr 2025) EndedAt: 2025-04-21 22:30:28 -0400 (Mon, 21 Apr 2025) EllapsedTime: 4.1 seconds RetCode: 0 Status: OK PackageFile: CNORfeeder_1.48.0.tgz PackageFileSize: 2.196 MiB