Package: CNORfeeder Version: 1.48.0 Command: /Library/Frameworks/R.framework/Resources/bin/R CMD build --keep-empty-dirs --no-resave-data CNORfeeder StartedAt: 2025-05-01 21:17:45 -0400 (Thu, 01 May 2025) EndedAt: 2025-05-01 21:18:06 -0400 (Thu, 01 May 2025) EllapsedTime: 21.1 seconds RetCode: 0 Status: OK PackageFile: CNORfeeder_1.48.0.tar.gz PackageFileSize: 3.434 MiB