Package: CNORdt Version: 1.50.0 Command: /Library/Frameworks/R.framework/Resources/bin/R CMD check --install=check:CNORdt.install-out.txt --library=/Library/Frameworks/R.framework/Resources/library --no-vignettes --timings CNORdt_1.50.0.tar.gz StartedAt: 2025-05-06 01:23:20 -0400 (Tue, 06 May 2025) EndedAt: 2025-05-06 01:26:23 -0400 (Tue, 06 May 2025) EllapsedTime: 182.9 seconds RetCode: 0 Status: OK CheckDir: CNORdt.Rcheck Warnings: 0