Package: CNEr Version: 1.44.0 Command: /Library/Frameworks/R.framework/Resources/bin/R CMD INSTALL CNEr StartedAt: 2025-05-26 17:15:43 -0400 (Mon, 26 May 2025) EndedAt: 2025-05-26 17:17:33 -0400 (Mon, 26 May 2025) EllapsedTime: 109.7 seconds RetCode: 0 Status: OK