Package: CINdex Version: 1.36.0 Maintainer: Yuriy Gusev MaintainerEmail: yg63 at georgetown.edu git_url: https://git.bioconductor.org/packages/CINdex git_branch: RELEASE_3_21 git_last_commit: 2c305be git_last_commit_date: 2025-04-15 11:00:29 -0400 (Tue, 15 Apr 2025)