Package: CIMICE Version: 1.16.0 Command: /Library/Frameworks/R.framework/Resources/bin/R CMD build --keep-empty-dirs --no-resave-data CIMICE StartedAt: 2025-05-05 17:48:59 -0400 (Mon, 05 May 2025) EndedAt: 2025-05-05 17:49:57 -0400 (Mon, 05 May 2025) EllapsedTime: 57.4 seconds RetCode: 0 Status: OK PackageFile: CIMICE_1.16.0.tar.gz PackageFileSize: 1.556 MiB