Package: CGHregions Version: 1.64.0 Command: /home/biocbuild/R/R/bin/R CMD check --install=check:CGHregions.install-out.txt --library=/home/biocbuild/R/R/site-library --no-vignettes --timings CGHregions_1.64.0.tar.gz StartedAt: 2025-01-31 04:48:43 -0000 (Fri, 31 Jan 2025) EndedAt: 2025-01-31 04:49:20 -0000 (Fri, 31 Jan 2025) EllapsedTime: 37.0 seconds RetCode: 0 Status: OK CheckDir: CGHregions.Rcheck Warnings: 0