Package: CGHnormaliter Version: 1.60.0 Command: chmod a+r CGHnormaliter -R && F:\biocbuild\bbs-3.20-bioc\R\bin\R.exe CMD build --keep-empty-dirs --no-resave-data CGHnormaliter StartedAt: 2025-01-30 17:52:12 -0500 (Thu, 30 Jan 2025) EndedAt: 2025-01-30 17:53:15 -0500 (Thu, 30 Jan 2025) EllapsedTime: 62.7 seconds RetCode: 0 Status: OK PackageFile: CGHnormaliter_1.60.0.tar.gz PackageFileSize: 1.127 MiB