Package: CGHnormaliter Version: 1.60.0 Command: rm -rf CGHnormaliter.buildbin-libdir && mkdir CGHnormaliter.buildbin-libdir && F:\biocbuild\bbs-3.20-bioc\R\bin\R.exe CMD INSTALL --build --library=CGHnormaliter.buildbin-libdir CGHnormaliter_1.60.0.tar.gz StartedAt: 2025-01-31 08:20:33 -0500 (Fri, 31 Jan 2025) EndedAt: 2025-01-31 08:20:56 -0500 (Fri, 31 Jan 2025) EllapsedTime: 22.9 seconds RetCode: 0 Status: OK PackageFile: CGHnormaliter_1.60.0.zip PackageFileSize: 1.145 MiB