Package: CGHnormaliter Version: 1.62.0 Command: /Library/Frameworks/R.framework/Resources/bin/R CMD INSTALL CGHnormaliter StartedAt: 2025-05-15 15:35:15 -0400 (Thu, 15 May 2025) EndedAt: 2025-05-15 15:35:24 -0400 (Thu, 15 May 2025) EllapsedTime: 9.3 seconds RetCode: 0 Status: OK