Package: CGHcall Version: 2.70.0 Command: rm -rf CGHcall.buildbin-libdir && mkdir CGHcall.buildbin-libdir && /Users/biocbuild/BBS/utils/build-universal.sh CGHcall_2.70.0.tar.gz /Library/Frameworks/R.framework/Resources/bin/R CGHcall.buildbin-libdir StartedAt: 2025-05-06 12:18:00 -0400 (Tue, 06 May 2025) EndedAt: 2025-05-06 12:18:14 -0400 (Tue, 06 May 2025) EllapsedTime: 14.2 seconds RetCode: 0 Status: OK PackageFile: CGHcall_2.70.0.tgz PackageFileSize: 532.8 KiB