Package: CGHbase Version: 1.68.0 Command: /Library/Frameworks/R.framework/Resources/bin/R CMD check --install=check:CGHbase.install-out.txt --library=/Library/Frameworks/R.framework/Resources/library --no-vignettes --timings CGHbase_1.68.0.tar.gz StartedAt: 2025-05-09 14:19:56 -0400 (Fri, 09 May 2025) EndedAt: 2025-05-09 14:20:42 -0400 (Fri, 09 May 2025) EllapsedTime: 46.6 seconds RetCode: 0 Status: OK CheckDir: CGHbase.Rcheck Warnings: 0