Package: CGHbase Version: 1.68.0 Command: /Library/Frameworks/R.framework/Resources/bin/R CMD build --keep-empty-dirs --no-resave-data CGHbase StartedAt: 2025-05-08 20:42:43 -0400 (Thu, 08 May 2025) EndedAt: 2025-05-08 20:42:46 -0400 (Thu, 08 May 2025) EllapsedTime: 2.3 seconds RetCode: 0 Status: OK PackageFile: CGHbase_1.68.0.tar.gz PackageFileSize: 848 KiB